BEGIN:VCALENDAR
VERSION:2.0
PRODID:-//Bay Christian Centre Church - ECPv4.4.0.1//NONSGML v1.0//EN
CALSCALE:GREGORIAN
METHOD:PUBLISH
X-WR-CALNAME:Bay Christian Centre Church
X-ORIGINAL-URL:http://www.baychristiancentre.org.nz
X-WR-CALDESC:Events for Bay Christian Centre Church
BEGIN:VEVENT
DTSTART;TZID=Pacific/Auckland:20170730T100000
DTEND;TZID=Pacific/Auckland:20170730T120000
DTSTAMP:20180125T150932
CREATED:20140901T151829Z
LAST-MODIFIED:20140901T151829Z
UID:23559-1501408800-1501416000@www.baychristiancentre.org.nz
SUMMARY:Sunday Family Service
DESCRIPTION:
URL:http://www.baychristiancentre.org.nz/event/sunday-family-service/2017-07-30/
LOCATION:45 Evans Road\, Papamoa\, New Zealand
CATEGORIES:Service
END:VEVENT
END:VCALENDAR